14.250000000000000
0.000000000000000
0.000000000000000
-14.250000000000000
116023.500000000000000
-552957.000000000000000
