29.3440671685
0.0000000000
0.0000000000
-29.3440671685
361169.5089069694
6994761.1528099710
