29.3440671685
0.0000000000
0.0000000000
-29.3440671685
346366.3377455051
7003521.6318767210
