42.60562986453155
0.00000000000000
0.00000000000000
-42.60562986453155
155093.23397549600000
9287941.47604696080000
