17.00198406589961
0.01396601764267
0.01629375436187
-16.97935782151170
141480.46228138823000
9176046.64682260340000
