16.99608254327565
-0.01314030422809
0.01406245970572
-16.98874971743146
184910.38066255162000
9217949.82527448980000
