17.00432329204353
-0.03689228461241
-0.01038003956028
-16.98769741134478
188475.48068003647000
9288937.94446646420000
