42.58045025302209
0.02678027761962
-0.04557091384542
-42.50305317414755
75509.99229559856800
9202992.91576991230000
