42.68587529725061
0.01558851391490
-0.04327627557351
-42.50333019559447
183479.24757179816000
9154455.02337907070000
