42.70350468096146
0.01124464040010
-0.07141980575633
-42.48919769322889
152067.69446973377000
9285846.17782644740000
