17.00098242338218
0.00507792096553
-0.01941062058598
-17.00334142987984
138475.09303520675000
9107691.96200073510000
