17.01108131283593
0.07895040159937
0.03119316291957
-16.99716564897817
142356.52808859947000
9174950.96585953980000
