16.97279950704096
-0.03046209839556
-0.07872939657053
-16.99921151672234
187658.03916089685000
9218160.18355243470000
