17.03502396402464
0.04007415143332
-0.00726649873351
-17.01090138419535
189090.17496921599000
9288692.88746100480000
