42.39455835453862
0.00000000000000
0.00000000000000
-42.39455835453862
72782.87869371817200
9203155.04769388960000
