42.34642824205277
0.00000000000000
0.00000000000000
-42.34642824205277
148269.04027745622000
9290013.83743722360000
