42.48970428479225
0.00000000000000
0.00000000000000
-42.48970428479225
69578.98794688026800
9201904.76780920850000
