42.53564131811130
0.00000000000000
0.00000000000000
-42.53564131811130
173493.34638685585000
9163753.29104956050000
