42.53078988202504
0.00000000000000
0.00000000000000
-42.53078988202504
156249.57437835759000
9292968.09419922720000
