42.42188587997513
0.02868948359893
0.00167813021768
-42.48969459907453
69578.98794688026800
9201819.78840063880000
