-0.00717163924941
42.53557315340296
-42.40174667470431
-0.07615021025781
411352.65263773419000
9000458.96402933080000
