16.97427044664363
0.00000000000000
0.00000000000000
-16.97427044664363
138110.62367467402000
9107840.06972995960000
