16.97610372988567
0.00000000000000
0.00000000000000
-16.97610372988567
142429.33524330458000
9174933.45533650550000
