16.97713328913567
0.00000000000000
0.00000000000000
-16.97713328913567
185136.02437795477000
9217948.02068777750000
