16.97023886124993
0.00000000000000
0.00000000000000
-16.97023886124993
188494.12648965736000
9288999.12145502870000
