16.92417606965942
0.04449890997224
0.00606060234466
-16.97421211846990
138110.62367467402000
9107670.32702549360000
