16.91902879026491
0.00250862829066
-0.04297376685326
-16.97610354453053
142633.04848806321000
9174933.45533650550000
