16.92266892794063
-0.01285838017928
-0.03671202758810
-16.97712841970449
185322.77284413527000
9217948.02068777750000
