16.94916426947039
0.01641990147545
-0.03032147952747
-16.97023091754242
188646.85863940863000
9288931.24049958400000
