42.40690138618471
0.00000000000000
0.00000000000000
-42.40690138618471
326423.65889382118000
9235289.53500182000000
