42.51673505748006
-0.05590534292868
0.05041169248045
-42.42103414151056
181845.86500959523000
9154893.06080327560000
