16.95702845705111
0.04438187997748
0.09855556831779
-17.12140290824313
165120.61128251028000
9289849.11977078950000
