17.10719179684336
0.00000000000000
0.00000000000000
-17.10719179684336
166177.35703093006000
9179598.64780190770000
