17.07176316307437
0.00000000000000
0.00000000000000
-17.07176316307437
111612.03184115671000
9068184.50294783900000
