17.11092174199645
0.00000000000000
0.00000000000000
-17.11092174199645
110477.74088870166000
9123787.95263045090000
