16.95103984361393
0.17530000461470
0.19168845189179
-17.06933169013873
220656.81893839705000
9289372.49053792100000
