16.95529057236791
0.18191922270985
0.22872578374074
-17.10622449783684
166177.35703093006000
9178948.57451362720000
