16.96342186641742
0.11938405373051
0.16216120336537
-17.13326991903115
165727.01409954962000
9234129.71511374790000
