17.12146043121517
0.00000000000000
0.00000000000000
-17.12146043121517
165120.61128251028000
9290020.33437510210000
