17.07023182149534
0.00000000000000
0.00000000000000
-17.07023182149534
220656.81893839705000
9290004.08911531600000
