17.11318157174527
0.00000000000000
0.00000000000000
-17.11318157174527
166016.86375019420000
9123665.30725880150000
