17.09742316093981
0.00000000000000
0.00000000000000
-17.09742316093981
221465.57571821698000
9179402.96258238700000
