17.10398893423381
0.00000000000000
0.00000000000000
-17.10398893423381
220403.44642376361000
9234994.54828359560000
