17.13368584603625
0.00000000000000
0.00000000000000
-17.13368584603625
165727.01409954962000
9234558.05725990050000
