17.05596024618860
0.00000000000000
0.00000000000000
-17.05596024618860
110162.29727453494000
9175213.66428076850000
