16.94540206986293
0.13022376821701
0.18926272558851
-17.07126648102871
111612.03184115671000
9067723.56534243560000
