16.95116068579426
0.14815680523418
0.18647867427225
-17.05531675110811
110162.29727453493000
9174667.87355288860000
