16.99245984507144
0.08371007585051
0.13140822066990
-17.11297683428348
166016.86375019423000
9123357.26999050940000
