16.92924066517166
0.10270804946711
0.16134306433160
-17.09711466303059
221465.57571821698000
9179043.91669600830000
