16.96131820024833
0.17753146573307
0.25878554394543
-17.11000074340739
110477.74088870166000
9123137.73760425490000
